Package: CatsCradle Version: 1.1.0 Command: rm -rf CatsCradle.buildbin-libdir && mkdir CatsCradle.buildbin-libdir && E:\biocbuild\bbs-3.21-bioc\R\bin\R.exe CMD INSTALL --build --library=CatsCradle.buildbin-libdir CatsCradle_1.1.0.tar.gz StartedAt: 2025-02-04 07:37:28 -0500 (Tue, 04 Feb 2025) EndedAt: 2025-02-04 07:39:27 -0500 (Tue, 04 Feb 2025) EllapsedTime: 119.1 seconds RetCode: 0 Status: OK PackageFile: CatsCradle_1.1.0.zip PackageFileSize: 3.122 MiB