Package: CatsCradle Version: 1.1.0 Command: E:\biocbuild\bbs-3.21-bioc\R\bin\R.exe CMD check --no-multiarch --install=check:CatsCradle.install-out.txt --library=E:\biocbuild\bbs-3.21-bioc\R\library --no-vignettes --timings CatsCradle_1.1.0.tar.gz StartedAt: 2025-02-03 23:51:44 -0500 (Mon, 03 Feb 2025) EndedAt: 2025-02-04 00:02:14 -0500 (Tue, 04 Feb 2025) EllapsedTime: 629.5 seconds RetCode: 0 Status: WARNINGS CheckDir: CatsCradle.Rcheck Warnings: 1