Package: CatsCradle Version: 1.1.0 Command: E:\biocbuild\bbs-3.21-bioc\R\bin\R.exe CMD INSTALL CatsCradle StartedAt: 2025-02-09 16:25:05 -0500 (Sun, 09 Feb 2025) EndedAt: 2025-02-09 16:26:30 -0500 (Sun, 09 Feb 2025) EllapsedTime: 85.2 seconds RetCode: 0 Status: OK