Package: CellBarcode Version: 1.13.1 Command: /Library/Frameworks/R.framework/Resources/bin/R CMD build --keep-empty-dirs --no-resave-data CellBarcode StartedAt: 2025-02-09 15:49:18 -0500 (Sun, 09 Feb 2025) EndedAt: 2025-02-09 15:49:49 -0500 (Sun, 09 Feb 2025) EllapsedTime: 31.3 seconds RetCode: 0 Status: OK PackageFile: CellBarcode_1.13.1.tar.gz PackageFileSize: 3.172 MiB