Package: CellBarcode Version: 1.13.1 Command: /Library/Frameworks/R.framework/Resources/bin/R CMD INSTALL CellBarcode StartedAt: 2025-02-09 15:24:59 -0500 (Sun, 09 Feb 2025) EndedAt: 2025-02-09 15:26:12 -0500 (Sun, 09 Feb 2025) EllapsedTime: 72.4 seconds RetCode: 0 Status: OK