Package: CellBarcode Version: 1.13.1 Command: /home/biocbuild/bbs-3.21-bioc/R/bin/R CMD build --keep-empty-dirs --no-resave-data CellBarcode StartedAt: 2025-02-09 16:33:27 -0500 (Sun, 09 Feb 2025) EndedAt: 2025-02-09 16:35:00 -0500 (Sun, 09 Feb 2025) EllapsedTime: 93.1 seconds RetCode: 0 Status: OK PackageFile: CellBarcode_1.13.1.tar.gz PackageFileSize: 3.143 MiB