Package: CellBarcode Version: 1.13.1 Command: rm -rf CellBarcode.buildbin-libdir && mkdir CellBarcode.buildbin-libdir && E:\biocbuild\bbs-3.21-bioc\R\bin\R.exe CMD INSTALL --build --library=CellBarcode.buildbin-libdir CellBarcode_1.13.1.tar.gz StartedAt: 2025-02-13 07:35:17 -0500 (Thu, 13 Feb 2025) EndedAt: 2025-02-13 07:38:19 -0500 (Thu, 13 Feb 2025) EllapsedTime: 182.1 seconds RetCode: 0 Status: OK PackageFile: CellBarcode_1.13.1.zip PackageFileSize: 3.302 MiB