Package: CellMapper Version: 1.33.0 Command: /Library/Frameworks/R.framework/Resources/bin/R CMD build --keep-empty-dirs --no-resave-data CellMapper StartedAt: 2025-02-04 16:09:07 -0500 (Tue, 04 Feb 2025) EndedAt: 2025-02-04 16:10:47 -0500 (Tue, 04 Feb 2025) EllapsedTime: 99.5 seconds RetCode: 0 Status: OK PackageFile: CellMapper_1.33.0.tar.gz PackageFileSize: 206.2 KiB