Package: CellMapper Version: 1.33.0 Command: /Library/Frameworks/R.framework/Resources/bin/R CMD check --install=check:CellMapper.install-out.txt --library=/Library/Frameworks/R.framework/Resources/library --no-vignettes --timings CellMapper_1.33.0.tar.gz StartedAt: 2025-02-09 19:37:31 -0500 (Sun, 09 Feb 2025) EndedAt: 2025-02-09 19:40:46 -0500 (Sun, 09 Feb 2025) EllapsedTime: 194.6 seconds RetCode: 0 Status: WARNINGS CheckDir: CellMapper.Rcheck Warnings: 1