Package: CellMapper Version: 1.33.0 Command: /home/biocbuild/bbs-3.21-bioc/R/bin/R CMD INSTALL CellMapper StartedAt: 2025-02-09 15:12:10 -0500 (Sun, 09 Feb 2025) EndedAt: 2025-02-09 15:12:15 -0500 (Sun, 09 Feb 2025) EllapsedTime: 4.8 seconds RetCode: 0 Status: OK