Package: CellMapper Version: 1.33.0 Command: E:\biocbuild\bbs-3.21-bioc\R\bin\R.exe CMD INSTALL CellMapper StartedAt: 2025-02-09 15:25:36 -0500 (Sun, 09 Feb 2025) EndedAt: 2025-02-09 15:25:51 -0500 (Sun, 09 Feb 2025) EllapsedTime: 15.4 seconds RetCode: 0 Status: OK