Package: CellMixS Version: 1.23.0 Command: /home/biocbuild/R/R/bin/R CMD build --keep-empty-dirs --no-resave-data CellMixS StartedAt: 2025-01-28 21:39:50 -0000 (Tue, 28 Jan 2025) EndedAt: 2025-01-28 21:43:48 -0000 (Tue, 28 Jan 2025) EllapsedTime: 238.1 seconds RetCode: 0 Status: OK PackageFile: CellMixS_1.23.0.tar.gz PackageFileSize: 2.838 MiB