Package: CellMixS Version: 1.23.0 Command: /home/biocbuild/R/R/bin/R CMD check --install=check:CellMixS.install-out.txt --library=/home/biocbuild/R/R/site-library --no-vignettes --timings CellMixS_1.23.0.tar.gz StartedAt: 2025-01-28 09:02:05 -0000 (Tue, 28 Jan 2025) EndedAt: 2025-01-28 09:07:05 -0000 (Tue, 28 Jan 2025) EllapsedTime: 300.3 seconds RetCode: 0 Status: OK CheckDir: CellMixS.Rcheck Warnings: 0