Package: CellMixS Version: 1.23.0 Command: /home/biocbuild/R/R/bin/R CMD INSTALL CellMixS StartedAt: 2025-01-29 20:28:04 -0000 (Wed, 29 Jan 2025) EndedAt: 2025-01-29 20:28:40 -0000 (Wed, 29 Jan 2025) EllapsedTime: 36.1 seconds RetCode: 0 Status: OK