Package: CellMixS Version: 1.23.0 Command: rm -rf CellMixS.buildbin-libdir && mkdir CellMixS.buildbin-libdir && /Users/biocbuild/BBS/utils/build-universal.sh CellMixS_1.23.0.tar.gz /Library/Frameworks/R.framework/Resources/bin/R CellMixS.buildbin-libdir StartedAt: 2025-02-05 00:32:11 -0500 (Wed, 05 Feb 2025) EndedAt: 2025-02-05 00:32:49 -0500 (Wed, 05 Feb 2025) EllapsedTime: 38.3 seconds RetCode: 0 Status: OK PackageFile: CellMixS_1.23.0.tgz PackageFileSize: 4.199 MiB