Package: CellMixS Version: 1.23.0 Command: /Library/Frameworks/R.framework/Resources/bin/R CMD build --keep-empty-dirs --no-resave-data CellMixS StartedAt: 2025-02-04 16:09:14 -0500 (Tue, 04 Feb 2025) EndedAt: 2025-02-04 16:11:44 -0500 (Tue, 04 Feb 2025) EllapsedTime: 149.7 seconds RetCode: 0 Status: OK PackageFile: CellMixS_1.23.0.tar.gz PackageFileSize: 4.111 MiB