Package: CellMixS Version: 1.23.0 Command: /Library/Frameworks/R.framework/Resources/bin/R CMD INSTALL CellMixS StartedAt: 2025-02-04 15:38:54 -0500 (Tue, 04 Feb 2025) EndedAt: 2025-02-04 15:39:29 -0500 (Tue, 04 Feb 2025) EllapsedTime: 35.7 seconds RetCode: 0 Status: OK