Package: CellMixS Version: 1.23.0 Command: /home/biocbuild/bbs-3.21-bioc/R/bin/R CMD build --keep-empty-dirs --no-resave-data CellMixS StartedAt: 2025-02-04 16:31:43 -0500 (Tue, 04 Feb 2025) EndedAt: 2025-02-04 16:34:28 -0500 (Tue, 04 Feb 2025) EllapsedTime: 165.2 seconds RetCode: 0 Status: OK PackageFile: CellMixS_1.23.0.tar.gz PackageFileSize: 3.91 MiB