Package: CellMixS Version: 1.23.0 Command: /home/biocbuild/bbs-3.21-bioc/R/bin/R CMD INSTALL CellMixS StartedAt: 2025-02-04 15:53:11 -0500 (Tue, 04 Feb 2025) EndedAt: 2025-02-04 15:53:37 -0500 (Tue, 04 Feb 2025) EllapsedTime: 26.0 seconds RetCode: 0 Status: OK