Package: CellMixS Version: 1.23.0 Command: rm -rf CellMixS.buildbin-libdir && mkdir CellMixS.buildbin-libdir && E:\biocbuild\bbs-3.21-bioc\R\bin\R.exe CMD INSTALL --build --library=CellMixS.buildbin-libdir CellMixS_1.23.0.tar.gz StartedAt: 2025-02-10 07:24:32 -0500 (Mon, 10 Feb 2025) EndedAt: 2025-02-10 07:25:07 -0500 (Mon, 10 Feb 2025) EllapsedTime: 35.3 seconds RetCode: 0 Status: OK PackageFile: CellMixS_1.23.0.zip PackageFileSize: 2.696 MiB