Package: CellMixS Version: 1.23.0 Command: E:\biocbuild\bbs-3.21-bioc\R\bin\R.exe CMD check --no-multiarch --install=check:CellMixS.install-out.txt --library=E:\biocbuild\bbs-3.21-bioc\R\library --no-vignettes --timings CellMixS_1.23.0.tar.gz StartedAt: 2025-02-09 23:29:34 -0500 (Sun, 09 Feb 2025) EndedAt: 2025-02-09 23:34:07 -0500 (Sun, 09 Feb 2025) EllapsedTime: 273.1 seconds RetCode: 0 Status: OK CheckDir: CellMixS.Rcheck Warnings: 0