Package: CellScore Version: 1.27.0 Command: rm -rf CellScore.buildbin-libdir && mkdir CellScore.buildbin-libdir && E:\biocbuild\bbs-3.21-bioc\R\bin\R.exe CMD INSTALL --build --library=CellScore.buildbin-libdir CellScore_1.27.0.tar.gz StartedAt: 2025-02-10 07:24:44 -0500 (Mon, 10 Feb 2025) EndedAt: 2025-02-10 07:25:17 -0500 (Mon, 10 Feb 2025) EllapsedTime: 32.8 seconds RetCode: 0 Status: OK PackageFile: CellScore_1.27.0.zip PackageFileSize: 4.267 MiB