Package: CellScore Version: 1.27.0 Command: chmod a+r CellScore -R && E:\biocbuild\bbs-3.21-bioc\R\bin\R.exe CMD build --keep-empty-dirs --no-resave-data CellScore StartedAt: 2025-02-09 17:44:27 -0500 (Sun, 09 Feb 2025) EndedAt: 2025-02-09 17:48:02 -0500 (Sun, 09 Feb 2025) EllapsedTime: 214.5 seconds RetCode: 0 Status: OK PackageFile: CellScore_1.27.0.tar.gz PackageFileSize: 4.213 MiB