Package: CellTrails Version: 1.25.0 Command: /Library/Frameworks/R.framework/Resources/bin/R CMD check --install=check:CellTrails.install-out.txt --library=/Library/Frameworks/R.framework/Resources/library --no-vignettes --timings CellTrails_1.25.0.tar.gz StartedAt: 2025-02-09 19:39:18 -0500 (Sun, 09 Feb 2025) EndedAt: 2025-02-09 19:44:00 -0500 (Sun, 09 Feb 2025) EllapsedTime: 281.6 seconds RetCode: 0 Status: OK CheckDir: CellTrails.Rcheck Warnings: 0