Package: CellTrails Version: 1.25.0 Command: /Library/Frameworks/R.framework/Resources/bin/R CMD INSTALL CellTrails StartedAt: 2025-02-09 15:11:48 -0500 (Sun, 09 Feb 2025) EndedAt: 2025-02-09 15:12:30 -0500 (Sun, 09 Feb 2025) EllapsedTime: 41.7 seconds RetCode: 0 Status: OK