Package: CellTrails Version: 1.25.0 Command: /home/biocbuild/bbs-3.21-bioc/R/bin/R CMD build --keep-empty-dirs --no-resave-data CellTrails StartedAt: 2025-02-09 16:34:48 -0500 (Sun, 09 Feb 2025) EndedAt: 2025-02-09 16:35:30 -0500 (Sun, 09 Feb 2025) EllapsedTime: 42.0 seconds RetCode: 0 Status: OK PackageFile: CellTrails_1.25.0.tar.gz PackageFileSize: 2.628 MiB