Package: CellTrails Version: 1.25.0 Command: /home/biocbuild/bbs-3.21-bioc/R/bin/R CMD INSTALL CellTrails StartedAt: 2025-02-09 15:18:33 -0500 (Sun, 09 Feb 2025) EndedAt: 2025-02-09 15:19:02 -0500 (Sun, 09 Feb 2025) EllapsedTime: 28.7 seconds RetCode: 0 Status: OK