Package: Cepo Version: 1.13.0 Command: /Library/Frameworks/R.framework/Resources/bin/R CMD check --install=check:Cepo.install-out.txt --library=/Library/Frameworks/R.framework/Resources/library --no-vignettes --timings Cepo_1.13.0.tar.gz StartedAt: 2025-02-09 19:40:05 -0500 (Sun, 09 Feb 2025) EndedAt: 2025-02-09 19:44:48 -0500 (Sun, 09 Feb 2025) EllapsedTime: 282.2 seconds RetCode: 0 Status: OK CheckDir: Cepo.Rcheck Warnings: 0