Package: Cepo Version: 1.13.0 Command: /Library/Frameworks/R.framework/Resources/bin/R CMD INSTALL Cepo StartedAt: 2025-02-09 15:17:38 -0500 (Sun, 09 Feb 2025) EndedAt: 2025-02-09 15:18:24 -0500 (Sun, 09 Feb 2025) EllapsedTime: 45.6 seconds RetCode: 0 Status: OK