Package: Cepo Version: 1.13.0 Command: chmod a+r Cepo -R && E:\biocbuild\bbs-3.21-bioc\R\bin\R.exe CMD build --keep-empty-dirs --no-resave-data Cepo StartedAt: 2025-02-12 17:48:31 -0500 (Wed, 12 Feb 2025) EndedAt: 2025-02-12 17:50:51 -0500 (Wed, 12 Feb 2025) EllapsedTime: 139.5 seconds RetCode: 0 Status: OK PackageFile: Cepo_1.13.0.tar.gz PackageFileSize: 2.489 MiB