Package: Cepo Version: 1.13.0 Command: E:\biocbuild\bbs-3.21-bioc\R\bin\R.exe CMD INSTALL Cepo StartedAt: 2025-02-12 16:12:08 -0500 (Wed, 12 Feb 2025) EndedAt: 2025-02-12 16:12:50 -0500 (Wed, 12 Feb 2025) EllapsedTime: 42.6 seconds RetCode: 0 Status: OK