Package: ChAMP Version: 2.37.0 Command: /Library/Frameworks/R.framework/Resources/bin/R CMD build --keep-empty-dirs --no-resave-data ChAMP StartedAt: 2025-02-04 15:51:52 -0500 (Tue, 04 Feb 2025) EndedAt: 2025-02-04 15:52:39 -0500 (Tue, 04 Feb 2025) EllapsedTime: 46.5 seconds RetCode: 0 Status: OK PackageFile: ChAMP_2.37.0.tar.gz PackageFileSize: 7.967 MiB