Package: ChAMP Version: 2.37.0 Command: /Library/Frameworks/R.framework/Resources/bin/R CMD build --keep-empty-dirs --no-resave-data ChAMP StartedAt: 2025-02-04 16:11:30 -0500 (Tue, 04 Feb 2025) EndedAt: 2025-02-04 16:13:32 -0500 (Tue, 04 Feb 2025) EllapsedTime: 122.1 seconds RetCode: 0 Status: OK PackageFile: ChAMP_2.37.0.tar.gz PackageFileSize: 7.965 MiB