Package: ChAMP Version: 2.37.0 Command: /home/biocbuild/bbs-3.21-bioc/R/bin/R CMD build --keep-empty-dirs --no-resave-data ChAMP StartedAt: 2025-02-04 16:34:27 -0500 (Tue, 04 Feb 2025) EndedAt: 2025-02-04 16:36:29 -0500 (Tue, 04 Feb 2025) EllapsedTime: 121.3 seconds RetCode: 0 Status: OK PackageFile: ChAMP_2.37.0.tar.gz PackageFileSize: 7.951 MiB