Package: ChAMP Version: 2.37.0 Command: /home/biocbuild/bbs-3.21-bioc/R/bin/R CMD check --install=check:ChAMP.install-out.txt --library=/home/biocbuild/bbs-3.21-bioc/R/site-library --timings ChAMP_2.37.0.tar.gz StartedAt: 2025-02-04 20:49:09 -0500 (Tue, 04 Feb 2025) EndedAt: 2025-02-04 20:58:11 -0500 (Tue, 04 Feb 2025) EllapsedTime: 541.8 seconds RetCode: 0 Status: WARNINGS CheckDir: ChAMP.Rcheck Warnings: 2