Package: ChAMP Version: 2.37.0 Command: rm -rf ChAMP.buildbin-libdir && mkdir ChAMP.buildbin-libdir && E:\biocbuild\bbs-3.21-bioc\R\bin\R.exe CMD INSTALL --build --library=ChAMP.buildbin-libdir ChAMP_2.37.0.tar.gz StartedAt: 2025-02-05 07:37:53 -0500 (Wed, 05 Feb 2025) EndedAt: 2025-02-05 07:39:19 -0500 (Wed, 05 Feb 2025) EllapsedTime: 85.5 seconds RetCode: 0 Status: OK PackageFile: ChAMP_2.37.0.zip PackageFileSize: 4.138 MiB