Package: ChAMP Version: 2.37.0 Command: chmod a+r ChAMP -R && E:\biocbuild\bbs-3.21-bioc\R\bin\R.exe CMD build --keep-empty-dirs --no-resave-data ChAMP StartedAt: 2025-02-04 17:45:31 -0500 (Tue, 04 Feb 2025) EndedAt: 2025-02-04 17:48:20 -0500 (Tue, 04 Feb 2025) EllapsedTime: 168.6 seconds RetCode: 0 Status: OK PackageFile: ChAMP_2.37.0.tar.gz PackageFileSize: 7.89 MiB