Package: ChAMP Version: 2.37.0 Command: E:\biocbuild\bbs-3.21-bioc\R\bin\R.exe CMD check --no-multiarch --install=check:ChAMP.install-out.txt --library=E:\biocbuild\bbs-3.21-bioc\R\library --no-vignettes --timings ChAMP_2.37.0.tar.gz StartedAt: 2025-02-05 00:00:20 -0500 (Wed, 05 Feb 2025) EndedAt: 2025-02-05 00:09:35 -0500 (Wed, 05 Feb 2025) EllapsedTime: 554.7 seconds RetCode: 0 Status: WARNINGS CheckDir: ChAMP.Rcheck Warnings: 2