Package: ChAMP Version: 2.37.0 Command: E:\biocbuild\bbs-3.21-bioc\R\bin\R.exe CMD INSTALL ChAMP StartedAt: 2025-02-04 17:02:44 -0500 (Tue, 04 Feb 2025) EndedAt: 2025-02-04 17:03:49 -0500 (Tue, 04 Feb 2025) EllapsedTime: 65.3 seconds RetCode: 0 Status: OK