############################################################################## ############################################################################## ### ### Running command: ### ### /Library/Frameworks/R.framework/Resources/bin/R CMD build --keep-empty-dirs --no-resave-data ChIPXpress ### ############################################################################## ############################################################################## * checking for file ‘ChIPXpress/DESCRIPTION’ ... OK * preparing ‘ChIPXpress’: * checking DESCRIPTION meta-information ... OK * installing the package to build vignettes ----------------------------------- ERROR: dependency ‘frma’ is not available for package ‘ChIPXpress’ Perhaps try a variation of: install.packages('frma') * removing ‘/private/var/folders/r0/l4fjk6cj5xj0j3brt4bplpl40000gt/T/RtmpLysoUS/Rinst6e5239b6ba96/ChIPXpress’ ----------------------------------- ERROR: package installation failed