Package: ChIPXpress Version: 1.51.0 Command: /Library/Frameworks/R.framework/Resources/bin/R CMD build --keep-empty-dirs --no-resave-data ChIPXpress StartedAt: 2025-02-09 15:53:35 -0500 (Sun, 09 Feb 2025) EndedAt: 2025-02-09 15:53:36 -0500 (Sun, 09 Feb 2025) EllapsedTime: 1.0 seconds RetCode: 1 Status: ERROR PackageFile: None PackageFileSize: NA