Package: ChIPXpress Version: 1.51.0 Command: /Library/Frameworks/R.framework/Resources/bin/R CMD INSTALL ChIPXpress StartedAt: 2025-02-09 15:10:11 -0500 (Sun, 09 Feb 2025) EndedAt: 2025-02-09 15:10:11 -0500 (Sun, 09 Feb 2025) EllapsedTime: 0.5 seconds RetCode: 1 Status: ERROR