Package: ChIPXpress Version: 1.51.0 Command: /home/biocbuild/R/R/bin/R CMD build --keep-empty-dirs --no-resave-data ChIPXpress StartedAt: 2025-01-28 21:49:36 -0000 (Tue, 28 Jan 2025) EndedAt: 2025-01-28 21:49:37 -0000 (Tue, 28 Jan 2025) EllapsedTime: 1.0 seconds RetCode: 1 Status: ERROR PackageFile: None PackageFileSize: NA