Package: ChIPXpress Version: 1.51.0 Command: /home/biocbuild/R/R/bin/R CMD INSTALL ChIPXpress StartedAt: 2025-01-29 19:53:39 -0000 (Wed, 29 Jan 2025) EndedAt: 2025-01-29 19:53:40 -0000 (Wed, 29 Jan 2025) EllapsedTime: 0.7 seconds RetCode: 1 Status: ERROR