Package: ChIPXpress Version: 1.51.0 Command: /Library/Frameworks/R.framework/Resources/bin/R CMD INSTALL ChIPXpress StartedAt: 2025-02-09 15:22:30 -0500 (Sun, 09 Feb 2025) EndedAt: 2025-02-09 15:22:35 -0500 (Sun, 09 Feb 2025) EllapsedTime: 4.8 seconds RetCode: 1 Status: ERROR