Package: ChIPXpress Version: 1.51.0 Command: /home/biocbuild/bbs-3.21-bioc/R/bin/R CMD INSTALL ChIPXpress StartedAt: 2025-02-09 15:59:50 -0500 (Sun, 09 Feb 2025) EndedAt: 2025-02-09 15:59:50 -0500 (Sun, 09 Feb 2025) EllapsedTime: 0.2 seconds RetCode: 1 Status: ERROR