Package: ChIPanalyser Version: 1.29.0 Command: /Library/Frameworks/R.framework/Resources/bin/R CMD INSTALL ChIPanalyser StartedAt: 2025-02-09 15:10:34 -0500 (Sun, 09 Feb 2025) EndedAt: 2025-02-09 15:10:49 -0500 (Sun, 09 Feb 2025) EllapsedTime: 14.9 seconds RetCode: 0 Status: OK