Package: ChIPanalyser Version: 1.29.0 Command: /Library/Frameworks/R.framework/Resources/bin/R CMD build --keep-empty-dirs --no-resave-data ChIPanalyser StartedAt: 2025-02-09 16:15:04 -0500 (Sun, 09 Feb 2025) EndedAt: 2025-02-09 16:37:01 -0500 (Sun, 09 Feb 2025) EllapsedTime: 1317.0 seconds RetCode: 0 Status: OK PackageFile: ChIPanalyser_1.29.0.tar.gz PackageFileSize: 1.149 MiB