Package: ChIPanalyser Version: 1.29.0 Command: /Library/Frameworks/R.framework/Resources/bin/R CMD check --install=check:ChIPanalyser.install-out.txt --library=/Library/Frameworks/R.framework/Resources/library --no-vignettes --timings ChIPanalyser_1.29.0.tar.gz StartedAt: 2025-02-09 19:42:38 -0500 (Sun, 09 Feb 2025) EndedAt: 2025-02-09 19:49:29 -0500 (Sun, 09 Feb 2025) EllapsedTime: 411.0 seconds RetCode: 0 Status: OK CheckDir: ChIPanalyser.Rcheck Warnings: 0