Package: ChIPanalyser Version: 1.29.0 Command: /Library/Frameworks/R.framework/Resources/bin/R CMD INSTALL ChIPanalyser StartedAt: 2025-02-09 15:19:31 -0500 (Sun, 09 Feb 2025) EndedAt: 2025-02-09 15:20:28 -0500 (Sun, 09 Feb 2025) EllapsedTime: 56.7 seconds RetCode: 0 Status: OK